BEGIN:VCALENDAR
VERSION:2.0
PRODID:-//ExpressionEngine Easy iCalendar plugin//NONSGML v2.0.0//EN
X-WR-TIMEZONE:America/Chicago
X-WR-CALNAME:Upcoming Auctions
BEGIN:VEVENT
UID:157205
DTSTAMP:20260529T170000
DTSTART:20260529T170000
DTEND:20260529T180000
SUMMARY:Accepting VINTAGE & ANTIQUE TOY Consignments
LOCATION:{location}
DESCRIPTION:WE ARE CURRENTLY BUILDING A PART 1 & PART 2 VINTAGE & ANTIQU
 E TOY ONLINE CONSIGNMENT SALE ACCEPTING THE FOLLOWING ITEMS
 : Metal & Tin Litho\, Steel Vehicles\, Diecast Vehicles\, Mode
 l Trains\, Marx\, Dinky Toys\, Buddy\, Lionel\, Tonka\, SHOW US WH
 AT YOU’VE GOT! CONSIGNMENT DATES EXTENDED! Now Accepting 
 Consignments until May 29TH\, 2026.  ONLINE CONSIGNMENT SAL
 E MAY 5-26 & JUNE 3-23 Call our office at (920) 261-6820 or 
 email us: info@jonesauctionservice.com   
URL:https://jonesauctionservice.bwpreview.com/auctions/detail/bw
 157205
SEQUENCE:1
END:VEVENT
END:VCALENDAR