BEGIN:VCALENDAR
VERSION:2.0
PRODID:-//ExpressionEngine Easy iCalendar plugin//NONSGML v2.0.0//EN
X-WR-TIMEZONE:America/Chicago
X-WR-CALNAME:Upcoming Auctions
BEGIN:VEVENT
UID:152583
DTSTAMP:20251120T160000
DTSTART:20251120T160000
DTEND:20251229T140000
SUMMARY:Van Dyne Area 38-Acre Farm - Online Bidding
LOCATION:N9170 Schultz Road\, Van Dyne\, WI 54979\, US
DESCRIPTION:38-Acre Farm in Van Dyne (Town of Eldorado)\, Fond Du Lac Cou
 nty For Sale by Online Bidding! This property at N9170 Schul
 tz Road is open for bidding. UPDATE: Good news for intereste
 d buyers! Online bidding for this property has been extended
  to close on Monday\, December 29th.  Bidding is scheduled t
 o close at 2:00pm. (CST). Open house on Saturday\, December 6
 th and Saturday\, December 13th from 10:00-11:30 A.M. Contact
  our office for your private viewing! Includes 34.75 acres o
 f tillable farmland\, a 92x55 machine shed\, mechanic shop\, tw
 o-stall garage\, open-front shelter\, two grain bins\, and a 3
 -bedroom 2-bath farmhouse. 
URL:https://jonesauctionservice.bwpreview.com/auctions/detail/bw
 152583
SEQUENCE:1
END:VEVENT
END:VCALENDAR