BEGIN:VCALENDAR
VERSION:2.0
PRODID:-//ExpressionEngine Easy iCalendar plugin//NONSGML v2.0.0//EN
X-WR-TIMEZONE:America/Chicago
X-WR-CALNAME:Upcoming Auctions
BEGIN:VEVENT
UID:152432
DTSTAMP:20251203T190000
DTSTART:20251203T190000
DTEND:20251216T160000
SUMMARY:December 2025 Elm Street Consignment Auction
LOCATION:802 Elm Street\, Watertown\, WI 53098\, US
DESCRIPTION:Featured Items: 2001 Workhorse P42 Step Van\; Craftsman T110 
 Mower\; Murray Snow Blower\; US 1908 Bayonet\; Stanley Bailey 
 No.5\; Mobilgas Gas Pump Globe Lens\; Cast Iron Bell\; Military
  Collectibles\; DeWalt & Ryobi 18V Power Tools\; Appliance Car
 t\; Vtg Tools\, Cleavers & Hatchets\; U.S.M.C. Enamel Pitcher\; 
 Johnson Seahorse & Other Vtg Outboards\; Fishing Lures\; Stamp
  Collection\; Westmoreland Glass\; Eclipse Potbelly Stove\; Loc
 al Advertising. You will also find a Cities Service Blue Clu
 b Motor Oil Can\; Alemite Triple Safe Motor Oil Can\; Copper B
 oiler\; Vtg Soaky Bubble Bath Bottles\; Vtg Kid's Toys\; Fine 
 Artwork\; Vtg Ornaments & Cookie Cutters\; Collectible Glasswa
 re\, Cast Iron & Tins\; Stoneware Jugs\; Brewers Bobbleheads\; 
 Sports Jerseys & Cards\; Late 1800s & Early 1900s Books\; Bea
 nie Babies\; Glass Bottles\; Video Games\; Musical Instruments\;
  Parts for 2013 Lincoln MKX\; Ladders\; Air Compressor\; Hand &
  Power Tools\; Elenker Knee Scooter\; Furniture\; Household Ite
 ms and more!
URL:https://jonesauctionservice.bwpreview.com/auctions/detail/bw
 152432
SEQUENCE:1
END:VEVENT
END:VCALENDAR