BEGIN:VCALENDAR
VERSION:2.0
PRODID:-//ExpressionEngine Easy iCalendar plugin//NONSGML v2.0.0//EN
X-WR-TIMEZONE:America/Chicago
X-WR-CALNAME:Upcoming Auctions
BEGIN:VEVENT
UID:151779
DTSTAMP:20251126T170000
DTSTART:20251126T170000
DTEND:20251210T100000
SUMMARY:Auction Time: 2019 Valmetal V-Mix 700
LOCATION:------\, Malone\, WI 53049\, US
DESCRIPTION:Lot # 3723 - Valmetal V-Mix 700 Online Bidding: Auction Time
  Location: Malone\, WI 53049 Bidding Opens: Wed\, Nov. 26\, 202
 5 5:00 PM Bidding Closes: Wed\, Dec. 10\, 2025 TBA
URL:https://jonesauctionservice.bwpreview.com/auctions/detail/bw
 151779
SEQUENCE:1
END:VEVENT
END:VCALENDAR