BEGIN:VCALENDAR
VERSION:2.0
PRODID:-//ExpressionEngine Easy iCalendar plugin//NONSGML v2.0.0//EN
X-WR-TIMEZONE:America/Chicago
X-WR-CALNAME:Upcoming Auctions
BEGIN:VEVENT
UID:151775
DTSTAMP:20251126T170000
DTSTART:20251126T170000
DTEND:20251210T100000
SUMMARY:Auction Time: 2015 Patz 2400 Series II 950
LOCATION:------\, Malone\, WI 53049\, US
DESCRIPTION:Lot # 3719 - PATZ 2400 SERIES II 950 Online Bidding: Auctio
 n Time Location: Malone\, WI 53049 Bidding Opens: Wed\, Nov. 2
 6\, 2025 5:00 PM Bidding Closes: Wed\, Dec. 10\, 2025 TBA
URL:https://jonesauctionservice.bwpreview.com/auctions/detail/bw
 151775
SEQUENCE:1
END:VEVENT
END:VCALENDAR