BEGIN:VCALENDAR
VERSION:2.0
PRODID:-//ExpressionEngine Easy iCalendar plugin//NONSGML v2.0.0//EN
X-WR-TIMEZONE:America/Chicago
X-WR-CALNAME:Upcoming Auctions
BEGIN:VEVENT
UID:151380
DTSTAMP:20251119T090000
DTSTART:20251119T090000
DTEND:20251209T120000
SUMMARY:Zank Living Estate Online Auction
LOCATION:N9170 Schultz Rd\, Van Dyne\, WI 54979\, US
DESCRIPTION:Featured Items: '69 Case 580 Construction King Loader Backho
 e\; '65 Case 830 Diesel\; 20ft Gooseneck Trailer\; Gooseneck Gr
 ain Trailer\; Farmall H\; Glencoe Chisel Plow\; Case IH Rotar
 y Hoe\; Simplicity Regent 44" Mower\; '03 Honda FourTrax Ranc
 her\; Cedar Creek Gooseneck Camper\; Sterling Silver Utensils\;
  Vtg Collectibles and Toys\; Vtg Farm Literature\; Vtg Ford 
 & GM Tailgates and Literature\; Vtg 1940s-60s Equipment Orde
 r Forms & Invoices\; Seth Thomas Adamantine Clock\; G. Weber T
 heresa WI Brewing Crate\; Vtg Traffic Signs\; Hay Trolleys\; Fu
 el Tanks\; Blasting Cabinet\; Greenworks Snow Blower\, Pole Saw
 \, and Chainsaw\; and New Tools. You will also find a Butler G
 rain Bin\; Corn Crib\; 1950 Case Model D\; Farmall Super A\; Bri
 llion Sure-Stand Seeder\; Older Farm Machinery for Parts/Scra
 p\; Older Cars and Trucks for Parts/Scrap\;14ft Sea King Alumi
 num Boat\; Snap On Tools\; Ammunition\; Firewood\; Vtg Automotiv
 e Shop Cabinets and Display Racks\; Plat Books\; Local Adverti
 sing\; Vtg Fishing Lures\; Vtg Car/Racing Magazines and Catalo
 gs\; Vtg License Plates\; Hoosier Cabinet\; Wonder Horse\; Pyrex
  and Fire King Dishes\; Invacare Medical Bed\; Glassware\; Furn
 iture\; Household Items and more!
URL:https://jonesauctionservice.bwpreview.com/auctions/detail/bw
 151380
SEQUENCE:1
END:VEVENT
END:VCALENDAR