BEGIN:VCALENDAR
VERSION:2.0
PRODID:-//ExpressionEngine Easy iCalendar plugin//NONSGML v2.0.0//EN
X-WR-TIMEZONE:America/Chicago
X-WR-CALNAME:Upcoming Auctions
BEGIN:VEVENT
UID:149356
DTSTAMP:20251015T100000
DTSTART:20251015T100000
DTEND:20251104T160000
SUMMARY:Elm Street Multiple Estates Online Auction
LOCATION:802 Elm Street\, Watertown\, WI 53098\, US
DESCRIPTION:Featured Items: 2015 Chevrolet Malibu\; Troy-Bilt Pony 42”
  Mower\; Gorilla Carts Evolution Yard Cart\; Stihl FSA 45 Batt
 ery Trimmer\; Weber Spirit II Grill\; Pedal Horse with Cart\; 
 Sno-ler Combination Sled\; Gold & Sterling Jewelry\; Pyrex & F
 ire King Bowls\; No. 3 Wagner Skillet\; Fine Porcelain Dishes
 \; Pistols\; Ammunition. You will also find Kimball 1983 Uprig
 ht Piano\; Explanar Golf Training System\; Lodge XL 6qt Red E
 namel Dutch Oven\; Royal Nippon Hand Painted Vase\; Rubbermaid
  Mop Bucket\; Schwinn Pixie Bike\; Pratt Royal Racer Sled\; G.H
 . Specialty Milwaukee Wood Platter\; Cattle Horns\; Galvanized
  Tubs\; Vintage Christmas Decorations & Ornaments\; Knife Coll
 ection\; Souvenir Spoon Collection\; Federal Glass\; Lesney Mat
 chbox\; Vintage Toys & Games\; GB Packers Collectibles\; NASCAR
  Collectibles\; Sports Collectibles\; Furniture\; Household Ite
 ms and more!
URL:https://jonesauctionservice.bwpreview.com/auctions/detail/bw
 149356
SEQUENCE:1
END:VEVENT
END:VCALENDAR