BEGIN:VCALENDAR
VERSION:2.0
PRODID:-//ExpressionEngine Easy iCalendar plugin//NONSGML v2.0.0//EN
X-WR-TIMEZONE:America/Chicago
X-WR-CALNAME:Upcoming Auctions
BEGIN:VEVENT
UID:146777
DTSTAMP:20250820T163000
DTSTART:20250820T163000
DTEND:20250924T140000
SUMMARY:136.5 Acre Farm in Waterloo/Jefferson County
LOCATION:N8083 Fuchs Lane\, Waterloo\, WI 53594 \, US
DESCRIPTION:136.5- Acre\, Move-In Ready\, 4-bdrm Farmhouse in the Town of 
 Waterloo\, Jefferson County For Sale by Online Bidding.  N8
 083 Fuchs Ln\, Town of Waterloo in Jefferson County is being 
 sold by online bidding - Register Today! Online bidding ope
 n Wednesday\, August 20th and bidding is scheduled to close W
 ednesday\, September 24th at 2:00 pm.  PREVIEW DATES: from 4
 :00 to 5:30 both days Wednesday\, September 10th and Thursday
 \, September 18th.  (No showings Friday\, August 29th) Exper
 ience the quiet beauty of country living on 136.5 acres in J
 efferson County’s Town of Waterloo. A charming 4-bedroom f
 armhouse\, classic barn\, and multiple outbuildings are surrou
 nded by fields\, woods\, wetlands\, and a meandering stream. Wi
 th WRP enrollment in place—plus the upcoming removal the 
 CRP enrollment and removal of public hunting rights—buyers
  can enjoy both conservation benefits and exclusive recreati
 onal opportunities. Perfect as a private retreat\, outdoor es
 cape\, or long-term investment\, this is country living at its
  finest.   Register today to bid and make this classic Wis
 consin farm your own!  Bidding requirements and Terms and C
 onditions apply. Brokers welcome. SCMLS #2005664
URL:https://jonesauctionservice.bwpreview.com/auctions/detail/bw
 146777
SEQUENCE:1
END:VEVENT
END:VCALENDAR