BEGIN:VCALENDAR
VERSION:2.0
PRODID:-//ExpressionEngine Easy iCalendar plugin//NONSGML v2.0.0//EN
X-WR-TIMEZONE:America/Chicago
X-WR-CALNAME:Upcoming Auctions
BEGIN:VEVENT
UID:146730
DTSTAMP:20250819T100000
DTSTART:20250819T100000
DTEND:20250925T140000
SUMMARY:Burnett\, WI 2-Bedroom Ranch on Spacious Corner Lot
LOCATION:W6145 Maple St\, Burnett\, WI 53922\, US
DESCRIPTION:Register today to bid online for this 2-bedroom\, 1-bathroom 
 Ranch home on a 0.53-acre lot at W6145 Maple St\, Burnett\, WI
  53922. Bidding opens August 19th. Due to unexpected circums
 tances\, online bidding has been extended and will now close 
 on Thursday\, September 25th at 2:30 PM. Preview Showing Date
 s: Thursday\, September 4th or Thursday\, September 11th from 
 4:00 to 5:30 PM. This home includes ceiling fans\, stove\, ref
 rigerator\, dining table\, sofa\, and washer/dryer. The basemen
 t is equipped with a gas furnace and central air\, water soft
 ener\, gas water heater\, well pump\, pressure tank\, washer hoo
 kup\, hand sink\, and sump pump. The exterior features a spaci
 ous 2.5-car garage\, artesian well in the front yard\, and a l
 arge backyard with only one side neighbor for added privacy.
  Bidding requirements and Terms & Conditions apply. Click to
  learn more.
URL:https://jonesauctionservice.bwpreview.com/auctions/detail/bw
 146730
SEQUENCE:1
END:VEVENT
END:VCALENDAR