BEGIN:VCALENDAR
VERSION:2.0
PRODID:-//ExpressionEngine Easy iCalendar plugin//NONSGML v2.0.0//EN
X-WR-TIMEZONE:America/Chicago
X-WR-CALNAME:Upcoming Auctions
BEGIN:VEVENT
UID:146680
DTSTAMP:20250819T100000
DTSTART:20250819T100000
DTEND:20250925T143000
SUMMARY:N8538 Second St\, Burnett 4-Bdrm Home
LOCATION:N8538 Second Street\, Burnett\, WI 53922\, US
DESCRIPTION:Register today to bid online for this 4-bedroom\, 1.5-bath Co
 lonial-style home on a 0.53-acre lot at N8538 Second St\, Bur
 nett\, WI 53922. Bidding opens August 19th! Due to unexpected
  circumstances\, online bidding has been extended and will no
 w close on Thursday\, September 25th at 2:30 PM. Preview Show
 ing Dates: Thursday\, September 4th or Thursday\, September 11
 th from 4:00 to 5:30 PM. This home includes a stove\, refrige
 rator\, microwave\, and dishwasher\, along with 200-amp electri
 cal service\, LP gas\, water softener\, and pressure tank for t
 he well. The foundation is a combination of block and poured
  concrete with outdoor entrance. The exterior features a 26 
 × 26 detached 2-car garage\, a full concrete pad connecting 
 the garage to the home\, and a generous lot providing ample o
 utdoor space. Bidding requirements and Terms & Conditions ap
 ply. Click to learn more.
URL:https://jonesauctionservice.bwpreview.com/auctions/detail/bw
 146680
SEQUENCE:1
END:VEVENT
END:VCALENDAR