BEGIN:VCALENDAR
VERSION:2.0
PRODID:-//ExpressionEngine Easy iCalendar plugin//NONSGML v2.0.0//EN
X-WR-TIMEZONE:America/Chicago
X-WR-CALNAME:Upcoming Auctions
BEGIN:VEVENT
UID:145776
DTSTAMP:20250923T183000
DTSTART:20250923T183000
DTEND:20251014T120000
SUMMARY:Waupun 2025 Fall Consignment Online Auction
LOCATION:1134 W Main St\, Waupun\, WI 53963\, US
DESCRIPTION:Featured Items Include: '31 Roadster\, '95 JD 9500 Combine\, 
 '74 JD 4230\, Ford 960\, '88 JD 430 62" Mower\, White 2-135 F
 ield Boss\, NH TS115A\, '88 JD 2355 w/Alamo Mowers\, '85 JD 
 2550 w/240 Ldr\, '59 Farmall 340\, '58 Oliver 880\, '57 Case 40
 0 w/Ldr\, '55 Farmall 100\, '38 Farmall F-20\, Rawson/Unverfert
 h Zone Builder\, Top Air TA1100 Sprayer\, Ag Systems 6000 11R
 30 Applicator\, Brent 472 Grain Cart\, Killbros 375 Gravity Wa
 gons\, H&S 3237 Manure Spreader\, H&S 6x10 Cattle Trailer\, St
 eer Stuffer\, '05 IH 8600\, '03 IH 4300 w/Hi Ranger\, '79 Chevr
 olet 70 Grain Truck\, '08 Dodge Ram 1500\, '69 Volkswagen Dune
  Buggy\, '67 Chevrolet Pickup\, '57 Chevrolet Bel Air\, Case 58
 0 Super E Loader Backhoe\, '99 Genie S-60 Lift\, Everest 9ft 3
 pt Snow Blower\, Frontier SB1154 Snow Blower\, Roadrunner 20ft
  Gooseneck Trailer\, Race Car Hauler\, Simplicity Broadmoor Mo
 wer.
URL:https://jonesauctionservice.bwpreview.com/auctions/detail/bw
 145776
SEQUENCE:1
END:VEVENT
END:VCALENDAR