BEGIN:VCALENDAR
VERSION:2.0
PRODID:-//ExpressionEngine Easy iCalendar plugin//NONSGML v2.0.0//EN
X-WR-TIMEZONE:America/Chicago
X-WR-CALNAME:Upcoming Auctions
BEGIN:VEVENT
UID:145615
DTSTAMP:20250909T160000
DTSTART:20250909T160000
DTEND:20250930T160000
SUMMARY:Downsizing Estate Online Auction
LOCATION:N109 Erin Rd\, Oconomowoc\, WI 53066\, US
DESCRIPTION:Featured Items: International 2400B\, Ford 2000 with I9-97 Lo
 ader\, 1990 Chevrolet C3500 with Dump Bed\, Big Tex 18ft Equip
 ment Trailer\, Case IH 2250 Loader\, John Deere M653 54" Mower
 \, Sea King 11ft Aluminum Boat with Trailer\, Box Blade\, Lands
 cape Rake\, Challenger MR6 6000lb Lift\, Hyd Compression Tool
 s\, and Overhead Doors. You will also find Utility/Snowmobil
 e Trailers\, 3pt Attachments\, Mississippi River Rock\, All Wea
 ther Work Tent\, Hand & Power Tools\, Hardware\, RV Camping Cor
 ds\, Boating & Fishing Items\, 5ft Round Folding Tables\, Barn 
 Boards\, LED Lighting\, Hot Sticks & Electrical Supplies\, PVC 
 Fencing\, fence posts\, small engines\, lawn & garden items\, lu
 mber\, scrap metal\, collectibles\, and more!
URL:https://jonesauctionservice.bwpreview.com/auctions/detail/bw
 145615
SEQUENCE:1
END:VEVENT
END:VCALENDAR