BEGIN:VCALENDAR
VERSION:2.0
PRODID:-//ExpressionEngine Easy iCalendar plugin//NONSGML v2.0.0//EN
X-WR-TIMEZONE:America/Chicago
X-WR-CALNAME:Upcoming Auctions
BEGIN:VEVENT
UID:141218
DTSTAMP:20250616T120000
DTSTART:20250616T120000
DTEND:20250722T140000
SUMMARY:3-acre Oconomowoc Country Estate
LOCATION:N79W33915 Petersen Rd\, Oconomowoc\, WI 53066\, US
DESCRIPTION:3-Acre Move-in Ready\, Town of Merton. Country Horse Estate F
 or Sale by Online Bidding.  N79W33915 Petersen Road\, Oconom
 owoc\, Town of Merton in Waukesha County is being sold by onl
 ine bidding - Register today! Online bidding open June 16th 
 and bidding closes on Tuesday\, July 22nd\, 2025 at 2:00pm. PR
 EVIEW DATES: from 4:00 to 5:30 both days Weds. June 25th and
  Weds. July 9th. This charming 3-acre updated farmhouse\, has
  a detached garage with upper level finished studio and 34x5
 6 pole building with two horse stalls\, storage and work area
  with water and electric available. Whether you are looking 
 to homestead\, raise a horse or two\, or just enjoy peaceful r
 ural living with modern comforts\, this unique opportunity is
  worth your attention. Click to learn more about this move-i
 n ready country estate being offered through a competitive o
 nline bidding format. Bidding requirements and Terms and Con
 ditions apply. Brokers welcome. SCMLS #2000336. 
URL:https://jonesauctionservice.bwpreview.com/auctions/detail/bw
 141218
SEQUENCE:1
END:VEVENT
END:VCALENDAR