BEGIN:VCALENDAR
VERSION:2.0
PRODID:-//ExpressionEngine Easy iCalendar plugin//NONSGML v2.0.0//EN
X-WR-TIMEZONE:America/Chicago
X-WR-CALNAME:Upcoming Auctions
BEGIN:VEVENT
UID:139722
DTSTAMP:20250522T090000
DTSTART:20250522T090000
DTEND:20250624T140000
SUMMARY:1218 Lisbon St\, Watertown 3-bdrm Ranch Home
LOCATION:1218 Lisbon Street\, Watertown\, WI 53098\, US
DESCRIPTION:Showings Now Available! Register today to bid online for 3-
 bedroom\, 2-bath move-in ready Ranch Home on 0.206 acre lot a
 t 1218 Lisbon St. Watertown\, WI 53098. Bidding opens May 22
 nd and will close Tuesday\, June 24th\, 2025 at 2:00 pm. PREV
 IEW SHOWING DATES: Thursday\, June 5th or Wednesday\, June 11t
 h from 4:00 to 5:30 both days. Includes appliances and wind
 ow treatments\; and features a partially finished full basem
 ent with full bath\, storage and work area\, and partially fin
 ished 19x22 family room . Home has a good roof\; newer HVAC 
 (5-yr)\; water softener (2023)\; water heater (2018) and 200-a
 mp electric. Exterior has a concrete drive with 2.5 car gar
 age (22.5x40) and features driveway garage door and side gar
 age door\, Yard is nicely landscaped city lot with a 10x14 ga
 rden shed. Bidding requirements and Terms & Conditions apply
 . Click to learn more. 
URL:https://jonesauctionservice.bwpreview.com/auctions/detail/bw
 139722
SEQUENCE:1
END:VEVENT
END:VCALENDAR