BEGIN:VCALENDAR
VERSION:2.0
PRODID:-//ExpressionEngine Easy iCalendar plugin//NONSGML v2.0.0//EN
X-WR-TIMEZONE:America/Chicago
X-WR-CALNAME:Upcoming Auctions
BEGIN:VEVENT
UID:139672
DTSTAMP:20250501T180000
DTSTART:20250501T180000
DTEND:20250520T160000
SUMMARY:Online Personal Property Estate Auction
LOCATION:1218 Lisbon Street\, Watertown\, WI 53098\, US
DESCRIPTION:Featured Items: 1847 Liberty Head $10 Coin\, Winchester Cente
 nnial '66 30-30 Lever Action\, Ruger Model 10/22 .22LR with 
 Scope\, Winchester Model 100 .308 Semi Auto\, Simplicity Coron
 et Mower\, Ariens Compact 24 Snowblower\, 4x8 Utility Trailer\,
  Stihl BGA 57 Battery Blower\, GB Packers Memorabilia\, Gold 
 Jewelry\, Bud Light Neon Sign\, Taxidermy Mounts\, Indiana Blu
 e Harvest Iridescent Carnival Glass Punch Bowl Set and a Dew
 alt Emglo Air Compressor. You will also find LG 55" Smart TV
 \, Ammunition - (12\, 16\, 20 Gauge + .308\, .22LR)\, Fishing - (
 Rods\, Reels\, Lures)\, Coins\, Workout Weights\, Carnival Glass\,
  Collectible Pyrex Bowls\, Explanar Home Golf Swing Trainer\, 
 Golfing - (Clubs\, Balls\, Clothing)\, Sentry Safe\, New Dewalt
  Drilling Sets\, Bostitch 6 gal Air Compressor\, Hand and Pow
 er Tools\, Collectibles\, Kitchen and Household Items. 
URL:https://jonesauctionservice.bwpreview.com/auctions/detail/bw
 139672
SEQUENCE:1
END:VEVENT
END:VCALENDAR