BEGIN:VCALENDAR
VERSION:2.0
PRODID:-//ExpressionEngine Easy iCalendar plugin//NONSGML v2.0.0//EN
X-WR-TIMEZONE:America/Chicago
X-WR-CALNAME:Upcoming Auctions
BEGIN:VEVENT
UID:138303
DTSTAMP:20250410T170000
DTSTART:20250410T170000
DTEND:20250423T145400
SUMMARY:Auction Time: John Deere 4240
LOCATION:------\, Brownsville\, WI 53006\, US
DESCRIPTION:Lot # 3949 - 1981 John Deere 4240 Online Bidding: Auction Ti
 me Location: Brownsville\, WI 53006 Bidding Opens: Thursday\, 
 April 10\, 2025 5:00 PM Bidding Closes: Wednesday\, April 23\, 
 2025 2:54 PM (CT)
URL:https://jonesauctionservice.bwpreview.com/auctions/detail/bw
 138303
SEQUENCE:1
END:VEVENT
END:VCALENDAR