BEGIN:VCALENDAR
VERSION:2.0
PRODID:-//ExpressionEngine Easy iCalendar plugin//NONSGML v2.0.0//EN
X-WR-TIMEZONE:America/Chicago
X-WR-CALNAME:Upcoming Auctions
BEGIN:VEVENT
UID:136896
DTSTAMP:20250319T100000
DTSTART:20250319T100000
DTEND:20250408T160000
SUMMARY:Estate of Ruth Schmidt
LOCATION:W3163 County Road B\, Watertown\, WI 53094\, US
DESCRIPTION:Featured Items: 2022 John Deere 3032E with 300E Loader\, 20
 23 John Deere X590 54” Mower\, 2001 John Deere 345 48” M
 ower\, 2023 Wood Maxx FM-54 54” Flail Mower\, Caroni FL140
 0 ASC 56” 3pt Tiller\, John Deere 3/4 Drive Socket Set\, Sti
 hl MS 360 PRO Chainsaw\, Martin Cast Iron Skillet #8\, C.S. 
 Bell Co 3 1886 Cast Iron Bell\, 1927 Jefferson County Direct
 ory\, Atlas Powder Co Explosives Box and Vtg Local Advertisi
 ng Items. You will also find Bush Hog Razorback RZ60 60” 3
 pt Mower\, John Deere 45 6ft 3pt Blade\, Delta\, Ryobi and Craf
 tsman Woodworking Tools\, Torch\, Tons of Hand Tools\, Snow Blo
 wers\, Tiller\, Lawn & Garden Tools\, Nitro Drive Push Walker\,
  Olympia Toboggan\, Steel Wheels\, E.A. Drews Johnson Creek 
 Advertising Dishes\, Carnival Glass\, Heileman’s Old Style 
 Beer Pool Table Light\, Red Wing Crocks\, Sterling Silver Jew
 elry\, 12\, 14 & 18k Gold + Gold Filled Jewelry\, $2 Red Seal
  Notes\, Vizio 50” TV\, Power Lift & Recline Chair\, McCoy
  Bowls\,  Pyrex 3pc Mixing Bowl Set\, Jefferson County Pla
 t Books\, Rowe Pottery Cambridge WI Bowl\, TONS of Crafting S
 upplies\, CLEAN Furniture and Household Items.
URL:https://jonesauctionservice.bwpreview.com/auctions/detail/bw
 136896
SEQUENCE:1
END:VEVENT
END:VCALENDAR