BEGIN:VCALENDAR
VERSION:2.0
PRODID:-//ExpressionEngine Easy iCalendar plugin//NONSGML v2.0.0//EN
X-WR-TIMEZONE:America/Chicago
X-WR-CALNAME:Upcoming Auctions
BEGIN:VEVENT
UID:136484
DTSTAMP:20250318T160000
DTSTART:20250318T160000
DTEND:20250415T140000
SUMMARY:Multiple Mayville Homes For Sale by Online Bidding
LOCATION:164 S. High St. and 170 S. High St.\, Mayville\, WI 53050\, US
DESCRIPTION:Multiple Homes in Mayville will be for sale by online biddin
 g starting March 18th to April 15th. For Sale by online bidd
 ing are (2) homes: 164 S High Street\, Mayville and 170 S Hi
 gh Street\, Mayville. Bid on one or bid on both. Calling all
  renovators and visionaries! Now is the opportunity to trans
 form one or both homes that are currently adjacent\, fixer-up
 per properties with a beautiful view of the Mayville Golf Co
 urse into something special.  Currently zoned as R-B - allo
 ws for single family or assisted living facility. Click to l
 earn more. Preview Showing Date is scheduled for Weds. April
  2\, 2025 from 3:30 to 5:00pm. 
URL:https://jonesauctionservice.bwpreview.com/auctions/detail/bw
 136484
SEQUENCE:1
END:VEVENT
END:VCALENDAR