BEGIN:VCALENDAR
VERSION:2.0
PRODID:-//ExpressionEngine Easy iCalendar plugin//NONSGML v2.0.0//EN
X-WR-TIMEZONE:America/Chicago
X-WR-CALNAME:Upcoming Auctions
BEGIN:VEVENT
UID:135431
DTSTAMP:20250218T170000
DTSTART:20250218T170000
DTEND:20250304T180000
SUMMARY:Clyman Living Estate Online Auction
LOCATION:820 Collins Street\, Clyman\, WI 53016\, US
DESCRIPTION:This auction features a 2017 Kia Sedona Van\, 1994 Ford F350 
 Pickup\, Cub Cadet 526 Snow Blower\, Hartig's Watertown Crate\,
  Craftsman Tools and Chicago Electric 90 Amp Flux Wire Weld
 er. You will also find Die Cast Toys\, Beer Steins and Bottle
 s\, Pyrex and Fire King Bowls\, Jewelry\, Pat Schauer Racing Co
 llage\, Delta Bench Grinder\, NEW and Like NEW Tools and Shop 
 Items\, Cub Cadet Mower\, Utility Trailer\, furniture\, collecti
 bles as well as shop & household items.
URL:https://jonesauctionservice.bwpreview.com/auctions/detail/bw
 135431
SEQUENCE:1
END:VEVENT
END:VCALENDAR