BEGIN:VCALENDAR
VERSION:2.0
PRODID:-//ExpressionEngine Easy iCalendar plugin//NONSGML v2.0.0//EN
X-WR-TIMEZONE:America/Chicago
X-WR-CALNAME:Upcoming Auctions
BEGIN:VEVENT
UID:134061
DTSTAMP:20250226T170000
DTSTART:20250226T170000
DTEND:20250312T153000
SUMMARY:Auction Time: Nuhn Lagoon Crawler and more!
LOCATION:------\, Malone\, WI 53049\, US
DESCRIPTION:Lot # 2572 - 2019 NUHN LAGOON CRAWLER Lot # 2501 - 1990 CASE
  IH 9150 Lot # 2893 - HOULE V-A-52 Lot # 2898 - JAMESWAY 11
 7400018 Online Bidding: Auction Time Location: Malone\, WI 53
 049 Bidding Opens: WED\, February 26\, 2025 5:00 PM Bidding Cl
 oses: WED\, March 12\, 2025 
URL:https://jonesauctionservice.bwpreview.com/auctions/detail/bw
 134061
SEQUENCE:1
END:VEVENT
END:VCALENDAR