BEGIN:VCALENDAR
VERSION:2.0
PRODID:-//ExpressionEngine Easy iCalendar plugin//NONSGML v2.0.0//EN
X-WR-TIMEZONE:America/Chicago
X-WR-CALNAME:Upcoming Auctions
BEGIN:VEVENT
UID:131682
DTSTAMP:20241127T100000
DTSTART:20241127T100000
DTEND:20241217T160000
SUMMARY:Part #2 Estate of Roger C. Rude
LOCATION:W9156 US HWY 12\, Cambridge\, WI 53523\, US
DESCRIPTION:This online auction of the Roger Rude Estate has over 1\,200 
 items and will close in two parts. Part 1 of the Estate of R
 oger Rude and close on Monday December 16\, 2024 and Part 2 
 will close on Tuesday December 17\, 2024 with a two day pick 
 up on Thursday and Friday. This large auction will end out t
 he year. This auction features household items\, farm equipme
 nt\, and construction equipment. This auction includes all it
 ems from the farm and construction estate\, from household it
 ems to heavy equipment and everything in between. This aucti
 on features John Deere 3020\, 4000\, and 4010 tractors\, Ford 5
 550 excavator\, D7 Caterpillar bulldozer\, John Deere end loa
 der\, welders\, farm implements\, machinists' toolboxes\, glass
 ware\, Ping-Pong table\, furniture\, vintage tractor and heavy 
 equipment manuals\, local area advertising pieces\, tools\, wor
 k benches\, NEW wood boiler\, metal lathe\, horizontal band saw
 \, vintage tools\, micrometers\, hauling accessories\, live trap
 s\, GMC trucks\, horse carriages\, pipe puller\, snowmobile and 
 more. Look over the large catalog on both auctions and bid t
 o own these items. Thank you for looking at this auction and
  for using Jones Auction. 
URL:https://jonesauctionservice.bwpreview.com/auctions/detail/bw
 131682
SEQUENCE:1
END:VEVENT
END:VCALENDAR