BEGIN:VCALENDAR
VERSION:2.0
PRODID:-//ExpressionEngine Easy iCalendar plugin//NONSGML v2.0.0//EN
X-WR-TIMEZONE:America/Chicago
X-WR-CALNAME:Upcoming Auctions
BEGIN:VEVENT
UID:129146
DTSTAMP:20241120T150000
DTSTART:20241120T150000
DTEND:20241210T160000
SUMMARY:2024 Fall Consignment Auction
LOCATION:818 N Church St.\, Watertown\, WI 53098\, US
DESCRIPTION:Jones Auction and Realty presents the 2024 Fall Consignment 
 Auction. This auction features a Griswold No. 12 Cast Iron D
 utch Oven\, Crown Bottling Return Crate\, Spec Cast Oliver Fa
 rm Toys and Clock Collection\, ERTL John Deere Farm Toys\, Fen
 ton Glass\, Vintage Kitchen Items\, Blow Mold Santa and a Butc
 her Block . You will also find Stoneware Crocks and Jugs\, Ca
 st Iron Kettles\, Christmas Ornaments\, Brewers Bobblehead Col
 lection and Sports Memorabilia\, Glass Bottles\, Hobnail Glass
 \, Mexican Pottery\, Miller High Life Mirrors\, Shed Antlers\, C
 ast Iron Banks\, Vintage Toys\, Milk Cans\, Lawn and Garden\, To
 ols\, Furniture\, and more
URL:https://jonesauctionservice.bwpreview.com/auctions/detail/bw
 129146
SEQUENCE:1
END:VEVENT
END:VCALENDAR