BEGIN:VCALENDAR
VERSION:2.0
PRODID:-//ExpressionEngine Easy iCalendar plugin//NONSGML v2.0.0//EN
X-WR-TIMEZONE:America/Chicago
X-WR-CALNAME:Upcoming Auctions
BEGIN:VEVENT
UID:128328
DTSTAMP:20240924T160000
DTSTART:20240924T160000
DTEND:20241106T140000
SUMMARY:West Bend Residential & Commercial Properties
LOCATION:2281 State Road 33\, West Bend \, WI 53095\, US
DESCRIPTION:ONLINE BIDDING EXTENDED TO WEDS. NOVEMBER 6TH\, 2024 AT 2:00P
 M - Amazing opportunity for business\, residential and/or re
 ntal dwellings for sale in West Bend on busy State Highway 
 33 (E. Washington Street). Offered in this sale is both (2)
  homes\, including commercial retail or office space\, plus e
 xtra garages\, storage sheds and other buildings on a total 
 of 2.66 acres of beautifully groomed and mature yard\, Both h
 omes are Zoned B1 Local Business District which is ideal for
  small office\, retail or service industry business. The ho
 me at 2281 State Highway 33 (a/k/a E. Washington Str)\, West
  Bend was built in the late 1800's. The 2600 sq ft home incl
 udes a 680 sq ft store front area for retail\, service or o
 ffice business. Formally a floral / greenhouse business\, the
  attached home is 1.5 story and is a 3-bedroom home. The 
 character and charm of this era home is exceptional and read
 y to be enhanced for todays lifestyle.  Included is the ho
 me next door at 6492 Municipal Drive is a 3 bedroom ranch ho
 me currently used as a rental unit for the caretaker of the 
 entire property. Sitting on 1.0 acres of land\, the Municipal
  Drive home has a 2-car attached garage plus a 24x20 garage 
 and an additional 20x16 garage. 
URL:https://jonesauctionservice.bwpreview.com/auctions/detail/bw
 128328
SEQUENCE:1
END:VEVENT
END:VCALENDAR