BEGIN:VCALENDAR
VERSION:2.0
PRODID:-//ExpressionEngine Easy iCalendar plugin//NONSGML v2.0.0//EN
X-WR-TIMEZONE:America/Chicago
X-WR-CALNAME:Upcoming Auctions
BEGIN:VEVENT
UID:126989
DTSTAMP:20240910T160000
DTSTART:20240910T160000
DTEND:20240930T120000
SUMMARY:Waupun 2024 Fall Consignment Online Auction
LOCATION:1134 W Main St\, Waupun\, WI 53963\, US
DESCRIPTION:Featured Items include 2000 John Deere 9650 STS\, 2017 New Ho
 lland Discbine 310\, Killbros 1200 Grain Cart\, 2007 John Deer
 e 630F\, Case IH 2166\, Allis Chalmers D17\, 2007 IH 9200\, 2008
  Ford F450 Dually King Ranch\, 6x12 Enclosed Trailer\, 2022 Su
 re-Trac 10ft Dump Trailer\, Gates and Livestock Equipment\, Tr
 uck Boxes\, and much more. Scheduled Preview Dates: Saturday
 \, Sept. 21st and Sept 28th from 10:00 to Noon both days at 
 the 1134 W. Main Street\, Waupun\, WI 53963 (old Pamida Lot).
URL:https://jonesauctionservice.bwpreview.com/auctions/detail/bw
 126989
SEQUENCE:1
END:VEVENT
END:VCALENDAR