BEGIN:VCALENDAR
VERSION:2.0
PRODID:-//ExpressionEngine Easy iCalendar plugin//NONSGML v2.0.0//EN
X-WR-TIMEZONE:America/Chicago
X-WR-CALNAME:Upcoming Auctions
BEGIN:VEVENT
UID:126806
DTSTAMP:20240830T120000
DTSTART:20240830T120000
DTEND:20240925T140000
SUMMARY:W7888 State Road 19\, Watertown 2-Bdrm Home
LOCATION:W7888 State Road 19\, Watertown\, WI 53098\, US
DESCRIPTION:Register to bid in the online bidding sale for this 2-bedroo
 m home located just west of Watertown in the Town of Shield 
 at W7888 State Road 19. Attend the showing on Tuesday\, Septe
 mber 10th from 4:30 to 6:00pm. With almost an acre lot (0.96
  acres)\, home is older in need of TLC and updating. New fur
 nace installed in 2023 and new vinyl windows. The 24x35 2-ca
 r detached garage has a 20x14 additional storage area and wo
 rkbench. Store all the toys and still have room to park. Onl
 ine bidding opens August 30th to Wednesday\, September 25th\, 
 2024 at 2:00pm. Bidding requirements including verification 
 of funds available bank letter and Terms and Conditions app
 ly to any offer.  
URL:https://jonesauctionservice.bwpreview.com/auctions/detail/bw
 126806
SEQUENCE:1
END:VEVENT
END:VCALENDAR