BEGIN:VCALENDAR
VERSION:2.0
PRODID:-//ExpressionEngine Easy iCalendar plugin//NONSGML v2.0.0//EN
X-WR-TIMEZONE:America/Chicago
X-WR-CALNAME:Upcoming Auctions
BEGIN:VEVENT
UID:126521
DTSTAMP:20240924T090000
DTSTART:20240924T090000
DTEND:20241015T160000
SUMMARY:Multi Auction Personal Property Estate Part #3
LOCATION:N4610 Hickory Rd\, Hustisford\, WI 53034\, US
DESCRIPTION:Unveiling a World of Wonder: Estate Auction of Treasures! Ca
 lling all collectors\, vintage enthusiasts\, and lovers of the
  unique! This will be the final auction in this series which
  features a captivating collection of items gathered from a 
 life well-lived. The former owner\, a USPS retiree with a pas
 sion for travel and collecting\, has amassed a remarkable arr
 ay of finds waiting to be discovered by you.  Over 700 Lots
 ! Featuring a Variety of Unique Antiques and Collectibles\, V
 intage Fishing Lures\, US Mail Collectibles\, Vintage Toys\, Gl
 assware and Pottery\, High School Letterman Patches\, Craft Su
 pplies\, Jewelry Repair\, Beading\, Seashells\, Cast Iron Molds\,
  Lamps\, Clocks\, Candles\, Small Kitchen Appliances\, Scales\, T
 runks and Shelving.
URL:https://jonesauctionservice.bwpreview.com/auctions/detail/bw
 126521
SEQUENCE:1
END:VEVENT
END:VCALENDAR