BEGIN:VCALENDAR
VERSION:2.0
PRODID:-//ExpressionEngine Easy iCalendar plugin//NONSGML v2.0.0//EN
X-WR-TIMEZONE:America/Chicago
X-WR-CALNAME:Upcoming Auctions
BEGIN:VEVENT
UID:125701
DTSTAMP:20240822T170000
DTSTART:20240822T170000
DTEND:20240828T133700
SUMMARY:Auction Time: Hesston StakHand 10
LOCATION:------\, Dane\, WI 53529\, US
DESCRIPTION:Lot # 9466 - Hesston StakHand 10 Online Bidding: Auction Tim
 e Location: Dane\, WI 53529 Bidding Opens: Thurs\, August 22\, 
 2024 5:00 PM Bidding Closes: WED\, August 28\, 2024 1:37 PM 
 CT
URL:https://jonesauctionservice.bwpreview.com/auctions/detail/bw
 125701
SEQUENCE:1
END:VEVENT
END:VCALENDAR