BEGIN:VCALENDAR
VERSION:2.0
PRODID:-//ExpressionEngine Easy iCalendar plugin//NONSGML v2.0.0//EN
X-WR-TIMEZONE:America/Chicago
X-WR-CALNAME:Upcoming Auctions
BEGIN:VEVENT
UID:125697
DTSTAMP:20240822T170000
DTSTART:20240822T170000
DTEND:20240828T152200
SUMMARY:Auction Time: Balzer 1016 Silage Dump Table
LOCATION:------\, Dane\, WI 53529\, US
DESCRIPTION:Lot # 9438 - Balzer 1016 Online Bidding: Auction Time Locati
 on: Dane\, WI 53529 Bidding Opens: Thurs\, August 22\, 2024 5:
 00 PM Bidding Closes: WED\, August 28\, 2024 3:22 PM CT
URL:https://jonesauctionservice.bwpreview.com/auctions/detail/bw
 125697
SEQUENCE:1
END:VEVENT
END:VCALENDAR