BEGIN:VCALENDAR
VERSION:2.0
PRODID:-//ExpressionEngine Easy iCalendar plugin//NONSGML v2.0.0//EN
X-WR-TIMEZONE:America/Chicago
X-WR-CALNAME:Upcoming Auctions
BEGIN:VEVENT
UID:125691
DTSTAMP:20240822T170000
DTSTART:20240822T170000
DTEND:20240910T160000
SUMMARY:Farm Estate of Jerald L Hassinger
LOCATION:4310 Pleasant Valley Rd\, West Bend \, WI 53095\, US
DESCRIPTION:Farm Estate of Jerald Hassinger. Bidding Closes on Tuesday\,
  September 10\, 2024. Featured Items: 1993 Case IH 7120\, 196
 9 IH Farmall 656 w/2350 Loader\, 1974 IH 464 w/1850 Loader\, S
 perry NH 1496 Windrower\, IH 490 Disk.
URL:https://jonesauctionservice.bwpreview.com/auctions/detail/bw
 125691
SEQUENCE:1
END:VEVENT
END:VCALENDAR