BEGIN:VCALENDAR
VERSION:2.0
PRODID:-//ExpressionEngine Easy iCalendar plugin//NONSGML v2.0.0//EN
X-WR-TIMEZONE:America/Chicago
X-WR-CALNAME:Upcoming Auctions
BEGIN:VEVENT
UID:124620
DTSTAMP:20240815T100000
DTSTART:20240815T100000
DTEND:20240903T180000
SUMMARY:West Bend Personal Property Auction
LOCATION:2281 State Hwy 33\, West Bend\, WI 53095\, US
DESCRIPTION:Jones Auction and Realty presents our latest online auction
  in West Bend. Bidding Closes on Tuesday\, September 3\, 2024.
  Tons of Greenhouse and Gardening Items\, New-In-Box Items\, K
 imball Piano\, Patio Furniture\, Vintage Christmas Decorations
 \, Antiques and Collectibles\, Furniture and Small Appliances\,
  Kitchen Items\, Vintage Clothing\, Tools and Hardware\, Tiller
 \, Lumber and more!   
URL:https://jonesauctionservice.bwpreview.com/auctions/detail/bw
 124620
SEQUENCE:1
END:VEVENT
END:VCALENDAR