BEGIN:VCALENDAR
VERSION:2.0
PRODID:-//ExpressionEngine Easy iCalendar plugin//NONSGML v2.0.0//EN
X-WR-TIMEZONE:America/Chicago
X-WR-CALNAME:Upcoming Auctions
BEGIN:VEVENT
UID:123838
DTSTAMP:20240724T170000
DTSTART:20240724T170000
DTEND:20240813T180000
SUMMARY:Estate of Carol Goeman
LOCATION:W395N5892 Laketon Ave\, Oconomowoc\, WI 53066\, US
DESCRIPTION:Jones Auction and Realty presents the online auction for the
  Estate of Carol Goeman. This auction features vintage Mid C
 entury Modern Furniture such as dinging room table and chair
 s\,  and sitting chairs\, Vintage Old Style lamp\, numerous ou
 tdoor lawn and garden tools\, ladders\, wheel barrow\, outdoor 
 decor\, hand tools\, holiday decorations\, bar related items\, h
 utch\, bedroom furniture\, cedar chests\, pictures\, home decor\,
  vinyl records\, jewelry and jewelry boxes\, home decor\, figur
 ines\, vintage bar cart\, folding chairs\, vintage women's hats
  and boxes\, household items\, kitchen items\, and more.
URL:https://jonesauctionservice.bwpreview.com/auctions/detail/bw
 123838
SEQUENCE:1
END:VEVENT
END:VCALENDAR