BEGIN:VCALENDAR
VERSION:2.0
PRODID:-//ExpressionEngine Easy iCalendar plugin//NONSGML v2.0.0//EN
X-WR-TIMEZONE:America/Chicago
X-WR-CALNAME:Upcoming Auctions
BEGIN:VEVENT
UID:123827
DTSTAMP:20240718T170000
DTSTART:20240718T170000
DTEND:20240806T180000
SUMMARY:Multi Auction Personal Property Estate Part #2
LOCATION:N4610 Hickory Rd\, Hustisford\, WI 53034\, US
DESCRIPTION:Unveiling a World of Wonder: Estate Auction of Treasures! Ca
 lling all collectors\, vintage enthusiasts\, and lovers of the
  unique! This estate auction features a captivating collecti
 on of items gathered from a life well-lived. The former owne
 r\, a USPS retiree with a passion for travel and collecting\, 
 has amassed a remarkable array of finds waiting to be discov
 ered by you.  Step back in time with a delightful selection
  of vintage Christmas Ornaments and Decorations\, Beer Advert
 ising\, U.S. Mail collectibles\, high school letter patches\, g
 lass bottles\, Roseville\, clock collection and vintage electr
 onics. .  Find the perfect accent piece for your home with
  an array of art\, figures\, Christmas decorations\, and tapest
 ry. Unearth hidden gems like uranium glassware\, vintage game
 s and toys\, local collectibles\, and so much more! Whether yo
 u're a seasoned collector or simply a curious soul\, this auc
 tion promises something for everyone. Don't miss this opport
 unity to add a touch of history and intrigue to your life!
URL:https://jonesauctionservice.bwpreview.com/auctions/detail/bw
 123827
SEQUENCE:1
END:VEVENT
END:VCALENDAR