BEGIN:VCALENDAR
VERSION:2.0
PRODID:-//ExpressionEngine Easy iCalendar plugin//NONSGML v2.0.0//EN
X-WR-TIMEZONE:America/Chicago
X-WR-CALNAME:Upcoming Auctions
BEGIN:VEVENT
UID:123045
DTSTAMP:20240710T190000
DTSTART:20240710T190000
DTEND:20240723T160000
SUMMARY:Estate of Morry Barka Online Auction
LOCATION:W3505 Beryl Drive\, Watertown\, WI 53094\, US
DESCRIPTION:Jones Auction Service presents the Online Auction for the Es
 tate of Morry Barka. He was the owner of Morry's Salvage eas
 t of Watertown for many years. This auction features a 24ft 
 Enclosed Trailer\, John Deere Skidsteer\, Chevy Malibu\, MAC an
 d Snap-On Tools\, Blue Point and MAC Toolboxes\, 24K Gold Plat
 ed MAC Tools\, and collector firearms. You will also find a l
 arge selection of shop items\, auto parts\, lawn mowers\, snow 
 blowers\, clock collection\, furniture\, kitchen & household it
 ems and more. 
URL:https://jonesauctionservice.bwpreview.com/auctions/detail/bw
 123045
SEQUENCE:1
END:VEVENT
END:VCALENDAR