BEGIN:VCALENDAR
VERSION:2.0
PRODID:-//ExpressionEngine Easy iCalendar plugin//NONSGML v2.0.0//EN
X-WR-TIMEZONE:America/Chicago
X-WR-CALNAME:Upcoming Auctions
BEGIN:VEVENT
UID:122101
DTSTAMP:20240613T113000
DTSTART:20240613T113000
DTEND:20240701T180000
SUMMARY:Fox Lake Personal Property Online Auction
LOCATION:N9897 Spring Rd\, Fox Lake\, WI 53933\, US
DESCRIPTION:Fox Lake Downsizing/Moving Sale! This online auction featu
 res a 2010 Arctic Cat 550 ATV\, Allis Chalmers D15 Loader Tra
 ctor\, New Holland Skidsteer\, Sylvan 16ft Fishing Boat\, Hunti
 ng Blind on Wagon\, John Deere 80 Garden Trailer\, Allis Chalm
 ers 2 Bottom Plow\, sporting goods\, lawn & garden items\, tool
 s\, vintage toys & games\, crocks\, Stihl Chainsaws\, Utility Tr
 ailers\, furniture\, and more.
URL:https://jonesauctionservice.bwpreview.com/auctions/detail/bw
 122101
SEQUENCE:1
END:VEVENT
END:VCALENDAR