BEGIN:VCALENDAR
VERSION:2.0
PRODID:-//ExpressionEngine Easy iCalendar plugin//NONSGML v2.0.0//EN
X-WR-TIMEZONE:America/Chicago
X-WR-CALNAME:Upcoming Auctions
BEGIN:VEVENT
UID:121520
DTSTAMP:20240606T100000
DTSTART:20240606T100000
DTEND:20240625T180000
SUMMARY:Multi Auction Personal Property Estate
LOCATION:N4610 Hickory Rd\, Hustisford\, WI 53034\, US
DESCRIPTION:Unveiling a World of Wonder: Estate Auction of Treasures! Ca
 lling all collectors\, vintage enthusiasts\, and lovers of the
  unique! This estate auction features a captivating collecti
 on of items gathered from a life well-lived. The former owne
 r\, a USPS retiree with a passion for travel and collecting\, 
 has amassed a remarkable array of finds waiting to be discov
 ered by you.Â  Step back in time with a delightful selection
  of vintage cameras\, toys\, typewriters\, and cast iron toys.Â
   Embrace the quirky and curious with die-cast pencil sharpe
 ners\, stone eggs\, geodes\, and brass sculptures.Â  Find the p
 erfect accent piece for your home with a stunning array of w
 ooden art\, jewelry\, stained glass lamps\, and furniture. Unea
 rth hidden gems like scientific tools\, glass displays\, smoki
 ng stands\, rare figurines\, and so much more! Whether you're 
 a seasoned collector or simply a curious soul\, this auction 
 promises something for everyone. Don't miss this opportunity
  to add a touch of history and intrigue to your life!
URL:https://jonesauctionservice.bwpreview.com/auctions/detail/bw
 121520
SEQUENCE:1
END:VEVENT
END:VCALENDAR