BEGIN:VCALENDAR
VERSION:2.0
PRODID:-//ExpressionEngine Easy iCalendar plugin//NONSGML v2.0.0//EN
X-WR-TIMEZONE:America/Chicago
X-WR-CALNAME:Upcoming Auctions
BEGIN:VEVENT
UID:120865
DTSTAMP:20240529T100000
DTSTART:20240529T100000
DTEND:20240618T180000
SUMMARY:Personal Property Auction Town of Erin
LOCATION:6039 Shannon Rd\, Hartford\, WI 53027\, US
DESCRIPTION:Town of Erin Moving Sale! This online auction due to down 
 sizing. The online auction features a 2022 John Deere XUV 59
 0M\, John Deere X320 lawn mower\, Black Americana collectable
 s\, power and hand tools\, hunting related items\, furniture\, w
 all decor\, Equine accessories\, cedar chests\, vintage saws\, d
 ining room table\, hutch\, Sentry gun safe\, record albums\, rol
 l top desk\, Hummel figures\, Mickey Mouse watch\, vintage Lone
  Ranger and Silver\, Thompson Arms Black Powder Rifle\, ladder
 s\, picnic tables\, metal advertising sign\, Lionel trains\, and
  more.
URL:https://jonesauctionservice.bwpreview.com/auctions/detail/bw
 120865
SEQUENCE:1
END:VEVENT
END:VCALENDAR