BEGIN:VCALENDAR
VERSION:2.0
PRODID:-//ExpressionEngine Easy iCalendar plugin//NONSGML v2.0.0//EN
X-WR-TIMEZONE:America/Chicago
X-WR-CALNAME:Upcoming Auctions
BEGIN:VEVENT
UID:120290
DTSTAMP:20240606T160000
DTSTART:20240606T160000
DTEND:20240626T160000
SUMMARY:Sticks & Stones Landscaping Online Auction
LOCATION:N2610 State Road 49\, Waupun\, WI 53963\, US
DESCRIPTION:Online Auction for Sticks & Stones Landscaping in Waupun. Th
 e owner of Sticks & Stones is changing career paths and movi
 ng on to bigger and better adventures. His full line of land
 scaping equipment and 6 trucks will be sold to the highest 
 bidder. All vehicles and equipment have been well maintained
 \, shedded and in good condition and ready to go to work! Onl
 ine bidding dates will run from June 6th to bidding close on
  Wednesday\, June 26th\, 2024 starting at 4:00 pm. Inspection
  Dates are scheduled for Friday\, June 14th from 2-5PM\, Satur
 day\, June 15th from 9AM-Noon\, Friday\, June 21st 2pm-5pm and 
 Saturday\, June 22nd from 9AM-Noon. More details and the onli
 ne catalog to be updated soon. 
URL:https://jonesauctionservice.bwpreview.com/auctions/detail/bw
 120290
SEQUENCE:1
END:VEVENT
END:VCALENDAR