BEGIN:VCALENDAR
VERSION:2.0
PRODID:-//ExpressionEngine Easy iCalendar plugin//NONSGML v2.0.0//EN
X-WR-TIMEZONE:America/Chicago
X-WR-CALNAME:Upcoming Auctions
BEGIN:VEVENT
UID:119698
DTSTAMP:20240508T170000
DTSTART:20240508T170000
DTEND:20240515T100000
SUMMARY:Auction Time: 2012 International 4300 Bucket Truck
LOCATION:------\, Clyman\, WI 53016\, US
DESCRIPTION:Lot # 7605 - 2012 INTERNATIONAL DURASTAR 4300 Online Bidding
 : Auction Time Location: Clyman\, WI 53016 Bidding Opens: WED
 \, May 8\, 2024 5:00 PM Bidding Closes: WED\, May 15\, 2024 TB
URL:https://jonesauctionservice.bwpreview.com/auctions/detail/bw
 119698
SEQUENCE:1
END:VEVENT
END:VCALENDAR