BEGIN:VCALENDAR
VERSION:2.0
PRODID:-//ExpressionEngine Easy iCalendar plugin//NONSGML v2.0.0//EN
X-WR-TIMEZONE:America/Chicago
X-WR-CALNAME:Upcoming Auctions
BEGIN:VEVENT
UID:115162
DTSTAMP:20240214T170000
DTSTART:20240214T170000
DTEND:20240221T105000
SUMMARY:Auction Time: Ficklin 185 Seed Tender Wagon
LOCATION:------\, Beaver Dam\, WI 53916\, US
DESCRIPTION:Lot # 8528 - FICKLIN 185 Online Bidding: Auction Time Locat
 ion: Beaver Dam\, WI 53916 Bidding Opens: WED\, February 14\, 2
 024 5:00 PM Bidding Closes: WED\, February 21\, 2024 10:51 A
 M   Kory 6072 Running Gear. Yetter Systems One Seed Jet II.
  Dresser Universal 33URAI Blower. Briggs & Stratton Industri
 al Plus 11hp motor. 11L-15SL Imp Tires. Inspections welcome 
 by appointment  
URL:https://jonesauctionservice.bwpreview.com/auctions/detail/bw
 115162
SEQUENCE:1
END:VEVENT
END:VCALENDAR