BEGIN:VCALENDAR
VERSION:2.0
PRODID:-//ExpressionEngine Easy iCalendar plugin//NONSGML v2.0.0//EN
X-WR-TIMEZONE:America/Chicago
X-WR-CALNAME:Upcoming Auctions
BEGIN:VEVENT
UID:114117
DTSTAMP:20240207T170000
DTSTART:20240207T170000
DTEND:20240214T104700
SUMMARY:Auction Time: John Deere 2100 Manure Applicators
LOCATION:------\, Beaver Dam\, WI 53916\, US
DESCRIPTION:Lot # 4835 - John Deere 2100 9 Shank Online Bidding: Auction
  Time Location: Beaver Dam\, WI 53916 Bidding Opens: WED\, Feb
 ruary 7\, 2024 5:00 PM Bidding Closes: WED\, February 14\, 202
 4 10:48 AM   Krohne 6" Flow Meter 9 Shank\, 30" Spacing\, 23
 ft wide New Points & Shins Used for 2 Years as manure inject
 or\, Used for Dairy Manure only   Lot # 4878 - John Deere 21
 00 11 Shank Online Bidding: Auction Time Location: Beaver D
 am\, WI 53916 Bidding Opens: WED\, February 7\, 2024 5:00 PM B
 idding Closes: WED\, February 14\, 2024 10:47 AM   Size: 8"\,
  11 Shank\, 30" Spacing\, 30ft Wide Set Up for Use with Puck S
 wing Arm Good Points Used for Dairy Manure only   Inspectio
 ns welcome by appointment
URL:https://jonesauctionservice.bwpreview.com/auctions/detail/bw
 114117
SEQUENCE:1
END:VEVENT
END:VCALENDAR