BEGIN:VCALENDAR
VERSION:2.0
PRODID:-//ExpressionEngine Easy iCalendar plugin//NONSGML v2.0.0//EN
X-WR-TIMEZONE:America/Chicago
X-WR-CALNAME:Upcoming Auctions
BEGIN:VEVENT
UID:113925
DTSTAMP:20240207T170000
DTSTART:20240207T170000
DTEND:20240214T102600
SUMMARY:Auction Time: Cornell 6NNT RP EM16 Pump
LOCATION:------\, Beaver Dam\, WI 53916\, US
DESCRIPTION:Lot # 4238 - CORNELL 6NNT RP EM16 Pump Online Bidding: Aucti
 on Time Location: Beaver Dam\, WI 53916 Bidding Opens: WED\, F
 ebruary 7\, 2024 5:00 PM Bidding Closes: WED\, February 14\, 2
 024 10:26 AM   Serial Number: 173312 Deutz Diesel - Fresh
  Overhaul Size: 6" 15" Tires\, Pintle Hitch   Inspections we
 lcome by appointment
URL:https://jonesauctionservice.bwpreview.com/auctions/detail/bw
 113925
SEQUENCE:1
END:VEVENT
END:VCALENDAR