BEGIN:VCALENDAR
VERSION:2.0
PRODID:-//ExpressionEngine Easy iCalendar plugin//NONSGML v2.0.0//EN
X-WR-TIMEZONE:America/Chicago
X-WR-CALNAME:Upcoming Auctions
BEGIN:VEVENT
UID:113919
DTSTAMP:20240207T170000
DTSTART:20240207T170000
DTEND:20240214T104900
SUMMARY:Auction Time: 2022 ZML 1424
LOCATION:------\, Beaver Dam\, WI 53916\, US
DESCRIPTION:Lot # 4209 - 2022 ZML 1424 28' Row Injection Toolbar Online 
 Bidding: Auction Time Location: Beaver Dam\, WI 53916 Bidding
  Opens: WED\, February 7\, 2024 5:00 PM Bidding Closes: WED\, 
 February 14\, 2024 10:49 AM   Serial Number: 8N0346 Krohne
  8" Flow Meter\, 8" Swinger Pipe 3pt\, 14 Red Viper Gen 3 Row 
 Units\, 24" Spacing New in Fall 2022\, Only used for Dairy Man
 ure   Inspections welcome by appointment
URL:https://jonesauctionservice.bwpreview.com/auctions/detail/bw
 113919
SEQUENCE:1
END:VEVENT
END:VCALENDAR