BEGIN:VCALENDAR
VERSION:2.0
PRODID:-//ExpressionEngine Easy iCalendar plugin//NONSGML v2.0.0//EN
X-WR-TIMEZONE:America/Chicago
X-WR-CALNAME:Upcoming Auctions
BEGIN:VEVENT
UID:111031
DTSTAMP:20231120T180000
DTSTART:20231120T180000
DTEND:20231218T180000
SUMMARY:Vintage John Deere Lawnmower Online Auction
LOCATION:W9791 Cty Rd I\, Reeseville\, WI 53579\, US
DESCRIPTION:Welcome to the online auction for Shannon Rupnow  Shannon h
 as been an avid John Deere collector for many years and has 
 exhibited some of his collection in local shows. Shannon has
  an extensive collection of vintage and rarer lawnmowers and
  has chosen to part with some of his machines for others to 
 use for restorations or needed parts. Some of the lawnmowers
  are harder to find machines. Most of the lawnmowers feature
 d are John Deere but also include makes such as Case and Cub
  Cadet to name a couple. This online lawn features vintage a
 nd rare lawn tractors such as the John Deere 120\, garden uti
 lity carts\, snow blower attachments\, lawn mower decks\, farm 
 implements\, John Deere parts\, John Deere collectables\, tools
  and more.
URL:https://jonesauctionservice.bwpreview.com/auctions/detail/bw
 111031
SEQUENCE:1
END:VEVENT
END:VCALENDAR