BEGIN:VCALENDAR
VERSION:2.0
PRODID:-//ExpressionEngine Easy iCalendar plugin//NONSGML v2.0.0//EN
X-WR-TIMEZONE:America/Chicago
X-WR-CALNAME:Upcoming Auctions
BEGIN:VEVENT
UID:110438
DTSTAMP:20240214T180000
DTSTART:20240214T180000
DTEND:20240305T180000
SUMMARY:Farm Toys and More! Online Consignment Auction
LOCATION:810 Morgan Street\, Clyman\, WI 53016\, US
DESCRIPTION:Welcome to the Farm Toys and More! Online Consignment Aucti
 on. This auction has a wide variety of items from Farm Toys 
 & Tonkas to Fisher Price & Playskool toddler toys.  Feature
 d Items include a ERTL Allis-Chalmers Lawn-Garden Tractor Se
 t\, 1/16 Spec Cast 1951 Case DC with Grain Drill - '09 WI Far
 m Tech Days\, ERTL 1/10 John Deere Trailfire Snowmobile\, ERT
 L Farm Country Sets\, and Play World Systems Playground Duck.
  ERTL\, Scale Models\, Spec Cast\, Hot Wheels\, Fisher Price\, Pl
 ayskool\, Earnhardt/Nascar\, Coca Cola\, Tonka\, Nylint\, Whitman
 \, Marx\, Tru Scale\, Hubley\, HO Railroad\, Barbie\, Buddy L\, Mat
 tel. Scheduled Preview Date: Thursday\, February 29\, 2024 f
 rom 3pm to 5pm. The online auction lots will start to close 
 on Tuesday\, March 5\, 2024 at 6 pm. Pick-up is scheduled for
  Thursday\, March 7\, 2024 from 1 pm to 5:30 pm at the Clym
 an Lions Club Hall located at 810 Morgan St\, Clyman\, WI 5301
 6. Buyers fee is 16%. Invoices under $5\,000 will automatic
 ally be charged to credit card on file the following busines
 s day\, March 6\, 2024. If over $5\,000.00\, a cashier's check w
 ith your bank letter and/or wire transfer will be accepted a
 long with credit cards. As of November 2023\, we are now usin
 g a new bidding platform for this auction. You will need to 
 create a new account as your previous account on the old pl
 atform will not work for this auction. Download our app on A
 pple or Google\, search Jones Auction Service
URL:https://jonesauctionservice.bwpreview.com/auctions/detail/bw
 110438
SEQUENCE:1
END:VEVENT
END:VCALENDAR