BEGIN:VCALENDAR
VERSION:2.0
PRODID:-//ExpressionEngine Easy iCalendar plugin//NONSGML v2.0.0//EN
X-WR-TIMEZONE:America/Chicago
X-WR-CALNAME:Upcoming Auctions
BEGIN:VEVENT
UID:110031
DTSTAMP:20231115T100000
DTSTART:20231115T100000
DTEND:20231212T180000
SUMMARY:Eugene Pagel John Deere Collection Online Auction
LOCATION:810 Morgan Street\, Clyman\, WI 53016\, US
DESCRIPTION:Online Auction for the Eugene Pagel's John Deere Collection.
  Eugene worked for Eichstaedt Implement in Wales\, WI until i
 t closed and later for Mid-State Equipment in Watertown for 
 a total of 41 years. He has a wonderful collection of rare a
 nd dealership promotional John Deere toys\, decanters\, train 
 sets\, ornaments and more. Featured Items include a JD Model
  1B Tiffin Corn Sheller\, Authentic John Deere Miniature Tra
 ctors Counter Display\, ERTL Precision Classics #25 1/16 JD 5
 010 2003 Sales Performance Award Limited Edition\, John Deere
  LGT Pedal Tractor with Wagon\, ERTL Recall 1/16 Internation
 al JD Heavy Duty Logger and Scale Models Melroe Spra Coupe S
 prayers as well as the following series: ERTL Precision Clas
 sics\, National Farm Toy Show\, Two Cylinder Expo\, John Deere 
 Parts Expo\, Spec Cast Pewter\, Athearn HO Train Sets\, and 3 S
 eries of Christmas Ornaments.  Scheduled Preview Date: Thu
 rsday\, December 7\, 2023 from 3pm to 6pm.
URL:https://jonesauctionservice.bwpreview.com/auctions/detail/bw
 110031
SEQUENCE:1
END:VEVENT
END:VCALENDAR