BEGIN:VCALENDAR
VERSION:2.0
PRODID:-//ExpressionEngine Easy iCalendar plugin//NONSGML v2.0.0//EN
X-WR-TIMEZONE:America/Chicago
X-WR-CALNAME:Upcoming Auctions
BEGIN:VEVENT
UID:109693
DTSTAMP:20231025T090000
DTSTART:20231025T090000
DTEND:20231114T180000
SUMMARY:Estate of Donald Zitlow
LOCATION:2787 Cty Rd NN\, West Bend\, WI 53095\, US
DESCRIPTION:Estate of Donald Zitlow West Bend. Donald loved hunting and 
 was an excellent wood worker. This estate auction will featu
 re some of his firearms\, mounts\, woodworking tools\, lumber\, 
 and more. This auction will feature over 30 firearms\, table 
 saws\, scroll saws\, dust collectors\, lathes\, routers\, clamps\,
  hand tools\, woodworking patterns\, sanders\, oak\, walnut\, bir
 ch and cherry boards\, pneumatic tools\, tool chests\, and more
 . 
URL:https://jonesauctionservice.bwpreview.com/auctions/detail/bw
 109693
SEQUENCE:1
END:VEVENT
END:VCALENDAR