BEGIN:VCALENDAR
VERSION:2.0
PRODID:-//ExpressionEngine Easy iCalendar plugin//NONSGML v2.0.0//EN
X-WR-TIMEZONE:America/Chicago
X-WR-CALNAME:Upcoming Auctions
BEGIN:VEVENT
UID:109420
DTSTAMP:20231018T090000
DTSTART:20231018T090000
DTEND:20231106T180000
SUMMARY:Consignment Personal Property Online Auction
LOCATION:816 Pheasant Run\, Watertown\, WI 53094\, WI 53098\, US
DESCRIPTION:Welcome to the multiple personal property online auction. T
 his auction features an awesome elk mount\, a Simplicity Cour
 ier 36 inch lawnmower with low hours\, tools\, home decor\, se
 lf propelled snowblower\, furniture\, arrow head collection\, f
 ishing tackle\, holiday decor\, Christmas villages and more. 
 Pride of ownership is shown in all property on how it has be
 en maintained. Thank you at looking at this auction.
URL:https://jonesauctionservice.bwpreview.com/auctions/detail/bw
 109420
SEQUENCE:1
END:VEVENT
END:VCALENDAR