BEGIN:VCALENDAR
VERSION:2.0
PRODID:-//ExpressionEngine Easy iCalendar plugin//NONSGML v2.0.0//EN
X-WR-TIMEZONE:America/Chicago
X-WR-CALNAME:Upcoming Auctions
BEGIN:VEVENT
UID:108921
DTSTAMP:20231018T100000
DTSTART:20231018T100000
DTEND:20231107T180000
SUMMARY:Online Contractor and Personal Property Auction
LOCATION:W2182 County Rd NN\, Neosho\, WI 53059\, US
DESCRIPTION:Contractor and personal property estate online auction. Cont
 ractor items from a window and siding business and persona
 l property. Items include ladders\, scaffolding\, power tools\,
  breaker\, pneumatic tools\, and hand tools. Personal property
  includes furniture\, kitchen items and more. Thank you for t
 aking the time to look at this auction.
URL:https://jonesauctionservice.bwpreview.com/auctions/detail/bw
 108921
SEQUENCE:1
END:VEVENT
END:VCALENDAR