BEGIN:VCALENDAR
VERSION:2.0
PRODID:-//ExpressionEngine Easy iCalendar plugin//NONSGML v2.0.0//EN
X-WR-TIMEZONE:America/Chicago
X-WR-CALNAME:Upcoming Auctions
BEGIN:VEVENT
UID:108824
DTSTAMP:20230920T000000
DTSTART:20230920T000000
DTEND:20231010T120000
SUMMARY:Waupun 2023 Fall Consignment Online Auction
LOCATION:{location}
DESCRIPTION:Once again\, Auctioneer Jake Vande Zande teams up with Auctio
 neer Stan Jones & Jones Auction Service for the Waupun 2023 
 Fall Consignment Online Auction. This sale includes Farm Mac
 hinery\, Construction Equipment\, Trucks\, Vehicles\, Trailers &
  More
URL:https://jonesauctionservice.bwpreview.com/auctions/detail/bw
 108824
SEQUENCE:1
END:VEVENT
END:VCALENDAR