BEGIN:VCALENDAR
VERSION:2.0
PRODID:-//ExpressionEngine Easy iCalendar plugin//NONSGML v2.0.0//EN
X-WR-TIMEZONE:America/Chicago
X-WR-CALNAME:Upcoming Auctions
BEGIN:VEVENT
UID:108821
DTSTAMP:20230914T000000
DTSTART:20230914T000000
DTEND:20231003T180000
SUMMARY:Online Fall Firearms Auction
LOCATION:{location}
DESCRIPTION:Welcome to the Online Fall Firearms Auction in Watertown\, WI
 . This auction consists of Rifles\, Shotguns and Pistols plus
  a variety of ammuntion\, fishing lures and hunting gear. Fea
 tured brands include Henry\, Springfield Armory\, Remington\, W
 inchester\, Mossberg\, Ruger\, Thompson Center\, Benelli\, Smith 
 & Wesson and Marlin.
URL:https://jonesauctionservice.bwpreview.com/auctions/detail/bw
 108821
SEQUENCE:1
END:VEVENT
END:VCALENDAR